BEGIN:VCALENDAR
VERSION:2.0
PRODID:-//Claremont Junior Football Club - ECPv6.13.1//NONSGML v1.0//EN
CALSCALE:GREGORIAN
METHOD:PUBLISH
X-WR-CALNAME:Claremont Junior Football Club
X-ORIGINAL-URL:https://www.claremontjuniorfc.com.au
X-WR-CALDESC:Events for Claremont Junior Football Club
REFRESH-INTERVAL;VALUE=DURATION:PT1H
X-Robots-Tag:noindex
X-PUBLISHED-TTL:PT1H
BEGIN:VTIMEZONE
TZID:Australia/Perth
BEGIN:STANDARD
TZOFFSETFROM:+0800
TZOFFSETTO:+0800
TZNAME:AWST
DTSTART:20260101T000000
END:STANDARD
END:VTIMEZONE
BEGIN:VEVENT
DTSTART;VALUE=DATE:20260904
DTEND;VALUE=DATE:20260907
DTSTAMP:20260421T204300
CREATED:20260210T064243Z
LAST-MODIFIED:20260210T064243Z
UID:10000051-1788480000-1788739199@www.claremontjuniorfc.com.au
SUMMARY:Grand Final
DESCRIPTION:Qualifying Final winner v Preliminary Final winner.
URL:https://www.claremontjuniorfc.com.au/event/grand-final/
CATEGORIES:FINALS,JUNIOR & YOUTH
END:VEVENT
END:VCALENDAR