BEGIN:VCALENDAR
VERSION:2.0
PRODID:-//Claremont Junior Football Club - ECPv6.13.1//NONSGML v1.0//EN
CALSCALE:GREGORIAN
METHOD:PUBLISH
X-ORIGINAL-URL:https://www.claremontjuniorfc.com.au
X-WR-CALDESC:Events for Claremont Junior Football Club
REFRESH-INTERVAL;VALUE=DURATION:PT1H
X-Robots-Tag:noindex
X-PUBLISHED-TTL:PT1H
BEGIN:VTIMEZONE
TZID:Australia/Perth
BEGIN:STANDARD
TZOFFSETFROM:+0800
TZOFFSETTO:+0800
TZNAME:AWST
DTSTART:20250101T000000
END:STANDARD
END:VTIMEZONE
BEGIN:VEVENT
DTSTART;VALUE=DATE:20250907
DTEND;VALUE=DATE:20250908
DTSTAMP:20260422T041325
CREATED:20250529T070303Z
LAST-MODIFIED:20250529T070303Z
UID:10000027-1757203200-1757289599@www.claremontjuniorfc.com.au
SUMMARY:Youth Grand Finals
DESCRIPTION:
URL:https://www.claremontjuniorfc.com.au/event/youth-grand-finals/
CATEGORIES:FINALS
END:VEVENT
BEGIN:VEVENT
DTSTART;VALUE=DATE:20250908
DTEND;VALUE=DATE:20250909
DTSTAMP:20260422T041325
CREATED:20250529T070334Z
LAST-MODIFIED:20250529T070334Z
UID:10000028-1757289600-1757375999@www.claremontjuniorfc.com.au
SUMMARY:Youth End of Season Windups
DESCRIPTION:
URL:https://www.claremontjuniorfc.com.au/event/youth-end-of-season-windups/
CATEGORIES:FINALS,JUNIOR & YOUTH
END:VEVENT
END:VCALENDAR