BEGIN:VCALENDAR
VERSION:2.0
PRODID:-//Claremont Junior Football Club - ECPv6.13.1//NONSGML v1.0//EN
CALSCALE:GREGORIAN
METHOD:PUBLISH
X-WR-CALNAME:Claremont Junior Football Club
X-ORIGINAL-URL:https://www.claremontjuniorfc.com.au
X-WR-CALDESC:Events for Claremont Junior Football Club
REFRESH-INTERVAL;VALUE=DURATION:PT1H
X-Robots-Tag:noindex
X-PUBLISHED-TTL:PT1H
BEGIN:VTIMEZONE
TZID:Australia/Perth
BEGIN:STANDARD
TZOFFSETFROM:+0800
TZOFFSETTO:+0800
TZNAME:AWST
DTSTART:20250101T000000
END:STANDARD
END:VTIMEZONE
BEGIN:VEVENT
DTSTART;VALUE=DATE:20250822
DTEND;VALUE=DATE:20250825
DTSTAMP:20260422T054135
CREATED:20250529T070154Z
LAST-MODIFIED:20250529T070154Z
UID:10000025-1755820800-1756079999@www.claremontjuniorfc.com.au
SUMMARY:Youth Round 1 Finals
DESCRIPTION:
URL:https://www.claremontjuniorfc.com.au/event/youth-round-1-finals/
CATEGORIES:FINALS,JUNIOR & YOUTH
END:VEVENT
BEGIN:VEVENT
DTSTART;VALUE=DATE:20250829
DTEND;VALUE=DATE:20250901
DTSTAMP:20260422T054135
CREATED:20250529T070225Z
LAST-MODIFIED:20250529T070225Z
UID:10000026-1756425600-1756684799@www.claremontjuniorfc.com.au
SUMMARY:Youth Round 2 Finals
DESCRIPTION:
URL:https://www.claremontjuniorfc.com.au/event/youth-round-2-finals/
CATEGORIES:FINALS,JUNIOR & YOUTH
END:VEVENT
END:VCALENDAR